BEGIN:VCALENDAR
VERSION:2.0
PRODID:Orange Mountain Bike Club
CALSCALE:GREGORIAN
BEGIN:VEVENT
DTSTAMP:20260419T215857Z
UID:616ecfa7-633d-482f-9ce2-3d65ecd0d31c
DTSTART:20260415T100000Z
DTEND:20260415T113000Z
DESCRIPTION:A final catch-up for all involved in the weekend event.OMBC End
 uro Organisers MeetingWednesday\, April 15 · 8:00 – 9:30pmTime zone: Au
 stralia/SydneyGoogle Meet joining infoVideo call link: https://meet.google
 .com/iuw-jxhs-bszOr dial: ‪(AU) +61 2 9051 5887‬ PIN: ‪478 915 989
 ‬#More phone numbers: https://tel.meet/iuw-jxhs-bsz?pin=5241254400785
LOCATION:Online\, Online
SUMMARY:OMBC Enduro Organising Meeting
URL;VALUE=URI:https://tidyhq.orangemountainbikeclub.com.au/public/schedule/
 meetings/289d15acc191131e
END:VEVENT
END:VCALENDAR
